BEGIN:VCALENDAR
VERSION:2.0
PRODID:-//CEEI Castellón//EmprenemJunts//ES
BEGIN:VEVENT
UID:Evento_20617
DTSTAMP:20220616T103922Z
DTSTART:20220623T090000Z
DTEND:20220623T110000Z
SUMMARY:FacturaciÃ³n electrÃ³nica: beneficios y futuro
DESCRIPTION:Fondo Europeo de Desarrollo Regional
LOCATION:los inscritos recibirÃ¡n el link de invitaciÃ³n
URL:https://ceeicastellon.emprenemjunts.es/?op=14&n=20617
END:VEVENT
END:VCALENDAR
