BEGIN:VCALENDAR
VERSION:2.0
PRODID:-//CEEI Castellón//EmprenemJunts//ES
BEGIN:VEVENT
UID:Evento_20628
DTSTAMP:20220616T112638Z
DTSTART:20220711T073000Z
DTEND:20220719T113000Z
SUMMARY:Talleres prÃ¡cticos ComenÃ§a a Exportar
DESCRIPTION:
LOCATION:CastellÃ³ de la Plana/CastellÃ³n de la Plana (CastellÃ³n)
URL:https://ceeicastellon.emprenemjunts.es/?op=14&n=20628
GEO:39.981770;-0.024583
END:VEVENT
END:VCALENDAR
