BEGIN:VCALENDAR
VERSION:2.0
PRODID:-//CEEI Castellón//EmprenemJunts//ES
BEGIN:VEVENT
UID:Evento_20634
DTSTAMP:20220617T062933Z
DTSTART:20220630T060000Z
DTEND:20220630T080000Z
SUMMARY:El consumidor post covid: cÃ³mo ha cambiado y cÃ³mo adaptar la oferta comercial a sus necesidades
DESCRIPTION:Programa Operativo Pluriregional 2022(POP)
LOCATION:La Vall d\'UixÃ³ (CastellÃ³n)
URL:https://ceeicastellon.emprenemjunts.es/?op=14&n=20634
GEO:39.816410;-0.232516
END:VEVENT
END:VCALENDAR
