BEGIN:VCALENDAR
VERSION:2.0
PRODID:-//CEEI Castellón//EmprenemJunts//ES
BEGIN:VEVENT
UID:Evento_20635
DTSTAMP:20220617T085436Z
DTSTART:20220627T133000Z
DTEND:20220707T173000Z
SUMMARY:FEVECTA organiza un nuevo seminario prÃ¡ctico: trabajo en equipo
DESCRIPTION:FEVECTA CastellÃ³n
LOCATION:CastellÃ³ de la Plana/CastellÃ³n de la Plana (CastellÃ³n)
URL:https://ceeicastellon.emprenemjunts.es/?op=14&n=20635
END:VEVENT
END:VCALENDAR
