BEGIN:VCALENDAR
VERSION:2.0
PRODID:-//Emprenemjunts//EmprenemJunts//ES
BEGIN:VEVENT
UID:Evento_20741
DTSTAMP:20220718T115846Z
DTSTART:20220908T073000Z
DTEND:20220908T113000Z
SUMMARY:Taller LLAMP sobre negociación y ventas
DESCRIPTION:
LOCATION:los inscritos recibirán el link de invitación
URL:https://www.emprenemjunts.es/?op=14&n=20741
END:VEVENT
END:VCALENDAR
