BEGIN:VCALENDAR
VERSION:2.0
PRODID:-//Emprenemjunts//EmprenemJunts//ES
BEGIN:VEVENT
UID:Evento_20808
DTSTAMP:20220902T092928Z
DTSTART:20220907T140000Z
DTEND:20220907T163000Z
SUMMARY:Crowdfunding para Organizaciones de Triple Impacto
DESCRIPTION:
LOCATION:
URL:https://www.emprenemjunts.es/?op=14&n=20808
END:VEVENT
END:VCALENDAR
