BEGIN:VCALENDAR
VERSION:2.0
PRODID:-//Nacional//EmprenemJunts//ES
BEGIN:VEVENT
UID:Evento_20948
DTSTAMP:20220928T135004Z
DTSTART:20221004T073000Z
DTEND:20221004T083000Z
SUMMARY:Órganos de administración de las sociedades de capital
DESCRIPTION:Nueva píldora LLAMP
LOCATION:
URL:https://emprenderycrecer.emprenemjunts.es/?op=14&n=20948
END:VEVENT
END:VCALENDAR
