BEGIN:VCALENDAR
VERSION:2.0
PRODID:-//CEEI Valencia//EmprenemJunts//ES
BEGIN:VEVENT
UID:Evento_21006
DTSTAMP:20221013T080336Z
DTSTART:20221018T073000Z
DTEND:20221118T093000Z
SUMMARY:Marketing y comunicación
DESCRIPTION:para tu empresa
LOCATION:
URL:https://ceeivalencia.emprenemjunts.es/?op=14&n=21006
END:VEVENT
END:VCALENDAR
