BEGIN:VCALENDAR
VERSION:2.0
PRODID:-//CEEI Valencia//EmprenemJunts//ES
BEGIN:VEVENT
UID:Evento_21216
DTSTAMP:20221115T111458Z
DTSTART:20221117T100000Z
DTEND:20221117T120000Z
SUMMARY:Jornada Resultados Programa LLAMP
DESCRIPTION:&#119810;&#119822;&#769;&#119810;&#119827;&#119812;&#119819; &#119821;&#119812;&#119827;&#119830;&#119822;&#119825;&#119818;&#119816;&#119821;&#119814; &#119814;&#119825;&#119808;&#119827;&#119828;&#119816;&#119827;&#119822; 
&#119823;&#119808;&#119825;&#119808; &#119819;&#119808; &#119823;&#119825;&#119812;&#119826;&#119812;&#119821;&#119827;&#119808;&#119810;&#119816;&#119822;&#769;&#119821; &#119811;&#119812; &#119825;&#119812;&#119826;&#119828;&#119819;&#119827;&#119808;&#119811;&#119822;&#119826; &#119811;&#119812;&#119819; &#119823;&#119825;&#119822;&#119814;&#119825;&#119808;&#119820;&#119808; &#119819;&#119819;&#119808;&#119820;&#119823; &#119808;&#119820;&#119812;&#769;&#119826; &#119808;&#119812;&#119826;&#119808;&#119819; &#120784;&#120782;&#120784;&#120784;
LOCATION:Valencia (Valencia)
URL:https://ceeivalencia.emprenemjunts.es/?op=14&n=21216
GEO:39.452995;-0.366383
END:VEVENT
END:VCALENDAR
