BEGIN:VCALENDAR
VERSION:2.0
PRODID:-//CEEI Valencia//EmprenemJunts//ES
BEGIN:VEVENT
UID:Evento_21468
DTSTAMP:20230208T155406Z
DTSTART:20230302T090000Z
DTEND:20230302T091500Z
SUMMARY:Bienvenida
DESCRIPTION:
LOCATION:Valencia (Valencia)
URL:https://ceeivalencia.emprenemjunts.es/?op=14&n=21468
GEO:39.456390;-0.330736
END:VEVENT
END:VCALENDAR
