BEGIN:VCALENDAR
VERSION:2.0
PRODID:-//Emprenemjunts//EmprenemJunts//ES
BEGIN:VEVENT
UID:Evento_21829
DTSTAMP:20230503T112443Z
DTSTART:20230530T080000Z
DTEND:20230530T110000Z
SUMMARY:Curso Llamp Ames y ACELERACIÓN 3I:  Herramientas digitales para negocios con impacto
DESCRIPTION:
LOCATION:
URL:https://www.emprenemjunts.es/?op=14&n=21829
END:VEVENT
END:VCALENDAR
