BEGIN:VCALENDAR
VERSION:2.0
PRODID:-//CEEI Castellón//EmprenemJunts//ES
BEGIN:VEVENT
UID:Evento_21901
DTSTAMP:20230517T120627Z
DTSTART:20230529T073000Z
DTEND:20230607T113000Z
SUMMARY:Taller. Licitaciones pÃºblicas para pymes y autÃ³nomos
DESCRIPTION:Taller. Licitaciones pÃºblicas para pymes y autÃ³nomos
LOCATION:Morella (CastellÃ³n)
URL:https://ceeicastellon.emprenemjunts.es/?op=14&n=21901
GEO:40.612095;-0.097376
END:VEVENT
END:VCALENDAR
