BEGIN:VCALENDAR
VERSION:2.0
PRODID:-//CEEI Elche//EmprenemJunts//ES
BEGIN:VEVENT
UID:Evento_22166
DTSTAMP:20230714T102324Z
DTSTART:20230926T073000Z
DTEND:20230926T110000Z
SUMMARY:Comunicar en la empresa: del por qué al cómo
DESCRIPTION:LLAMP Workshop comunicación para emprendedores en la provincia de Alicante
LOCATION:Elx/Elche (Alicante)
URL:https://ceeielche.emprenemjunts.es/?op=14&n=22166
GEO:38.275150;-0.682433
END:VEVENT
END:VCALENDAR
