BEGIN:VCALENDAR
VERSION:2.0
PRODID:-//CEEI Valencia//EmprenemJunts//ES
BEGIN:VEVENT
UID:Evento_22281
DTSTAMP:20230911T103736Z
DTSTART:20230924T080000Z
DTEND:20230927T120000Z
SUMMARY:Jornada de Innovación Turística
DESCRIPTION:Promover la atracción de talento en el sector turismo y compartir oportunidades de financiación
LOCATION:Valencia (Valencia)
URL:https://ceeivalencia.emprenemjunts.es/?op=14&n=22281
GEO:39.473949;0.362471
END:VEVENT
END:VCALENDAR
