BEGIN:VCALENDAR
VERSION:2.0
PRODID:-//CEEI Valencia//EmprenemJunts//ES
BEGIN:VEVENT
UID:Evento_22284
DTSTAMP:20230911T111855Z
DTSTART:20231129T080000Z
DTEND:20231130T200000Z
SUMMARY:9ª Edición del BIGBAN Investors Congress
DESCRIPTION:Felices de poder contribuir en una mejora y cambio constante del sector. Y, sobre todo, #aprender, #crear y #divertirse.
LOCATION:Valencia (Valencia)
URL:https://ceeivalencia.emprenemjunts.es/?op=14&n=22284
GEO:39.458031;-0.358012
END:VEVENT
END:VCALENDAR
