BEGIN:VCALENDAR
VERSION:2.0
PRODID:-//CEEI Elche//EmprenemJunts//ES
BEGIN:VEVENT
UID:Evento_22306
DTSTAMP:20230912T140431Z
DTSTART:20230918T090000Z
DTEND:20230918T100000Z
SUMMARY:Presentación resultados HUB Innovación Colaborativa Territorial - Nueva Ruralidad Regenerativa
DESCRIPTION:Presentación diagnóstico y territorios de oportunidad relacionados con la Nueva Ruralidad Regenerativa
LOCATION:
URL:https://ceeielche.emprenemjunts.es/?op=14&n=22306
END:VEVENT
END:VCALENDAR
