BEGIN:VCALENDAR
VERSION:2.0
PRODID:-//CEEI Valencia//EmprenemJunts//ES
BEGIN:VEVENT
UID:Evento_22324
DTSTAMP:20230919T083325Z
DTSTART:20231017T070000Z
DTEND:20231017T110000Z
SUMMARY:2ª Jornada de Innovación Empresarial
DESCRIPTION:
LOCATION:Valencia (Valencia)
URL:https://ceeivalencia.emprenemjunts.es/?op=14&n=22324
GEO:39.448967;-0.375803
END:VEVENT
END:VCALENDAR
