BEGIN:VCALENDAR
VERSION:2.0
PRODID:-//CEEI Castell髇//EmprenemJunts//ES
BEGIN:VEVENT
UID:Evento_22451
DTSTAMP:20231011T094337Z
DTSTART:20231115T083000Z
DTEND:20231115T130000Z
SUMMARY:TALLER Desbloquea el poder de Chat GPT: transformando la aceleraci贸n empresarial
DESCRIPTION:Primera de las tres sesiones del  programa de Capacitaci贸n de Agentes del Ecosistema de Emprendimiento de la Comunitat Valenciana, provincia Castell贸n
LOCATION:Castell贸 de la Plana/Castell贸n de la Plana (Castell贸n)
URL:https://ceeicastellon.emprenemjunts.es/?op=14&n=22451
GEO:-0.024387;39.983097
END:VEVENT
END:VCALENDAR
