BEGIN:VCALENDAR
VERSION:2.0
PRODID:-//CEEI Elche//EmprenemJunts//ES
BEGIN:VEVENT
UID:Evento_22473
DTSTAMP:20231017T111755Z
DTSTART:20231109T095000Z
DTEND:20231109T103500Z
SUMMARY:Aplicaciones prácticas de tecnologías habilitadoras
DESCRIPTION:
LOCATION:Alacant/Alicante (Alicante)
URL:https://ceeielche.emprenemjunts.es/?op=14&n=22473
GEO:38.302650;-0.533119
END:VEVENT
END:VCALENDAR
