BEGIN:VCALENDAR
VERSION:2.0
PRODID:-//CEEI Elche//EmprenemJunts//ES
BEGIN:VEVENT
UID:Evento_22531
DTSTAMP:20231023T091048Z
DTSTART:20231026T161500Z
DTEND:20231026T180000Z
SUMMARY:25+1 Aniversario INDA LEVANTE
DESCRIPTION:
LOCATION:Elx/Elche (Alicante)
URL:https://ceeielche.emprenemjunts.es/?op=14&n=22531
GEO:38.295856;-0.573649
END:VEVENT
END:VCALENDAR
