BEGIN:VCALENDAR
VERSION:2.0
PRODID:-//CEEI Elche//EmprenemJunts//ES
BEGIN:VEVENT
UID:Evento_22711
DTSTAMP:20231122T143519Z
DTSTART:20231201T110000Z
DTEND:20231201T123000Z
SUMMARY:Ley de startups. Conoce el proceso de certificación de empresas emergentes
DESCRIPTION:
LOCATION:Sant Vicent del Raspeig/San Vicente del Raspeig (Alicante)
URL:https://ceeielche.emprenemjunts.es/?op=14&n=22711
GEO:38.381363;-0.524705
END:VEVENT
END:VCALENDAR
