BEGIN:VCALENDAR
VERSION:2.0
PRODID:-//CEEI Alcoy//EmprenemJunts//ES
BEGIN:VEVENT
UID:Evento_22734
DTSTAMP:20231129T093030Z
DTSTART:20231212T082000Z
DTEND:20231212T103000Z
SUMMARY:Innovación para establecer colaboraciones futuras entre pymes
DESCRIPTION:
LOCATION:Alcoi/Alcoy (Alicante)
URL:https://ceeialcoi.emprenemjunts.es/?op=14&n=22734
GEO:38.697281;-0.476990
END:VEVENT
END:VCALENDAR
