BEGIN:VCALENDAR
VERSION:2.0
PRODID:-//CEEI Elche//EmprenemJunts//ES
BEGIN:VEVENT
UID:Evento_22806
DTSTAMP:20231219T062529Z
DTSTART:20240228T100000Z
DTEND:20240228T120000Z
SUMMARY:CATA EN INNOVACIÓN
DESCRIPTION:GESTIÓN EFICIENTE DEL DATO PARA LA SOSTENIBILIDAD TURÍSTICA DE UN MUNICIPIO MEDIANTE LA COMPRA PÚBLICA DE INNOVACIÓN
LOCATION:Elda (Alicante)
URL:https://ceeielche.emprenemjunts.es/?op=14&n=22806
END:VEVENT
END:VCALENDAR
