BEGIN:VCALENDAR
VERSION:2.0
PRODID:-//CEEI Elche//EmprenemJunts//ES
BEGIN:VEVENT
UID:Evento_22947
DTSTAMP:20240201T082116Z
DTSTART:20240216T150000Z
DTEND:20240511T190000Z
SUMMARY:Programa superior Agente del Cambio para la digitalización de la empresa
DESCRIPTION:
LOCATION:Sant Vicent del Raspeig/San Vicente del Raspeig (Alicante)
URL:https://ceeielche.emprenemjunts.es/?op=14&n=22947
GEO:38.382973;-0.514053
END:VEVENT
END:VCALENDAR
