BEGIN:VCALENDAR
VERSION:2.0
PRODID:-//CEEI Castellón//EmprenemJunts//ES
BEGIN:VEVENT
UID:Evento_23047
DTSTAMP:20240221T073422Z
DTSTART:20240419T074500Z
DTEND:20240419T103000Z
SUMMARY:Focus Pyme: Inteligencia artificial y marketing para empresas
DESCRIPTION:
LOCATION:CastellÃ³ de la Plana/CastellÃ³n de la Plana (CastellÃ³n)
URL:https://ceeicastellon.emprenemjunts.es/?op=14&n=23047
GEO:39.983250;-0.023633
END:VEVENT
END:VCALENDAR
