BEGIN:VCALENDAR
VERSION:2.0
PRODID:-//CEEI Alcoy//EmprenemJunts//ES
BEGIN:VEVENT
UID:Evento_23143
DTSTAMP:20240313T090311Z
DTSTART:20240314T183000Z
DTEND:20240314T193000Z
SUMMARY:Jovempa Jovempa Talks x 2 con Altitud Formación y Mail Boxes ETC
DESCRIPTION:
LOCATION:Alcoi/Alcoy (Alicante)
URL:https://ceeialcoi.emprenemjunts.es/?op=14&n=23143
END:VEVENT
END:VCALENDAR
