BEGIN:VCALENDAR
VERSION:2.0
PRODID:-//CEEI Elche//EmprenemJunts//ES
BEGIN:VEVENT
UID:Evento_23250
DTSTAMP:20240412T065002Z
DTSTART:20240417T080000Z
DTEND:20240417T090000Z
SUMMARY:II Encuentro Empresarial con Scraps
DESCRIPTION:
LOCATION:Alacant/Alicante (Alicante)
URL:https://ceeielche.emprenemjunts.es/?op=14&n=23250
GEO:38.354397;-0.498361
END:VEVENT
END:VCALENDAR
