BEGIN:VCALENDAR
VERSION:2.0
PRODID:-//CEEI Elche//EmprenemJunts//ES
BEGIN:VEVENT
UID:Evento_23339
DTSTAMP:20240425T112951Z
DTSTART:20240508T080000Z
DTEND:20240508T092500Z
SUMMARY:Casos de éxito en la provincia de Alicante - Sala 1
DESCRIPTION:
LOCATION:Elx/Elche (Alicante)
URL:https://ceeielche.emprenemjunts.es/?op=14&n=23339
GEO:38.263744;-0.695678
END:VEVENT
END:VCALENDAR
