BEGIN:VCALENDAR
VERSION:2.0
PRODID:-//CEEI Alcoy//EmprenemJunts//ES
BEGIN:VEVENT
UID:Evento_23423
DTSTAMP:20240520T105429Z
DTSTART:20240530T080000Z
DTEND:20240530T090000Z
SUMMARY:Estrategias para impulsar la innovación tecnológica y digital en tu empresa
DESCRIPTION:Digitalk textil | 30 de mayo Online
LOCATION:
URL:https://ceeialcoi.emprenemjunts.es/?op=14&n=23423
END:VEVENT
END:VCALENDAR
