BEGIN:VCALENDAR
VERSION:2.0
PRODID:-//CEEI Elche//EmprenemJunts//ES
BEGIN:VEVENT
UID:Evento_23428
DTSTAMP:20240521T102345Z
DTSTART:20240528T090000Z
DTEND:20240528T100000Z
SUMMARY:Jornada informativa Kit Digital para páginas web y presencia online
DESCRIPTION:
LOCATION:Orihuela (Alicante)
URL:https://ceeielche.emprenemjunts.es/?op=14&n=23428
GEO:37.917774;-0.733004
END:VEVENT
END:VCALENDAR
