BEGIN:VCALENDAR
VERSION:2.0
PRODID:-//CEEI Valencia//EmprenemJunts//ES
BEGIN:VEVENT
UID:Evento_23437
DTSTAMP:20240522T123246Z
DTSTART:20240529T080000Z
DTEND:20240529T110000Z
SUMMARY:II Encuentro Jóvenes Empresas con Impacto Social
DESCRIPTION:Contaremos con empresas referentes en un encuentro único.
LOCATION:Valencia (Valencia)
URL:https://ceeivalencia.emprenemjunts.es/?op=14&n=23437
END:VEVENT
END:VCALENDAR
