BEGIN:VCALENDAR
VERSION:2.0
PRODID:-//CEEI Valencia//EmprenemJunts//ES
BEGIN:VEVENT
UID:Evento_23521
DTSTAMP:20240613T144824Z
DTSTART:20240710T090000Z
DTEND:20240710T110000Z
SUMMARY:Todo lo que necesitas saber antes de crear tu empresa
DESCRIPTION:
LOCATION:Manises (Valencia)
URL:https://ceeivalencia.emprenemjunts.es/?op=14&n=23521
GEO:39.489628;-0.453157
END:VEVENT
END:VCALENDAR
