BEGIN:VCALENDAR
VERSION:2.0
PRODID:-//CEEI Valencia//EmprenemJunts//ES
BEGIN:VEVENT
UID:Evento_23546
DTSTAMP:20240620T093940Z
DTSTART:20240627T073000Z
DTEND:20240627T113000Z
SUMMARY:Encuentro presencial \"juntas es mejor\"
DESCRIPTION:Networking de emprendedoras de Novaterra y Acción contra el Hambre
LOCATION:Valencia (Valencia)
URL:https://ceeivalencia.emprenemjunts.es/?op=14&n=23546
END:VEVENT
END:VCALENDAR
