BEGIN:VCALENDAR
VERSION:2.0
PRODID:-//CEEI Castellón//EmprenemJunts//ES
BEGIN:VEVENT
UID:Evento_23582
DTSTAMP:20240701T114908Z
DTSTART:20240704T070000Z
DTEND:20240704T150000Z
SUMMARY:Encuentro Empresarial y networking
DESCRIPTION:Descubre las Ãºltimas ayudas y soluciones tecnolÃ³gicas para potenciar tu competitividad y avanzar en tu transformaciÃ³n digital
LOCATION:Torreblanca (CastellÃ³n)
URL:https://ceeicastellon.emprenemjunts.es/?op=14&n=23582
END:VEVENT
END:VCALENDAR
