BEGIN:VCALENDAR
VERSION:2.0
PRODID:-//CEEI Valencia//EmprenemJunts//ES
BEGIN:VEVENT
UID:Evento_23596
DTSTAMP:20240708T121649Z
DTSTART:20241015T080000Z
DTEND:20241127T120000Z
SUMMARY:Emprendeaventura Rural - Ciclo de talleres para impulsar tu negocio
DESCRIPTION:Emprendeaventura Rural 2024 - 2ª edición
LOCATION:
URL:https://ceeivalencia.emprenemjunts.es/?op=14&n=23596
END:VEVENT
END:VCALENDAR
