BEGIN:VCALENDAR
VERSION:2.0
PRODID:-//CEEI Elche//EmprenemJunts//ES
BEGIN:VEVENT
UID:Evento_23691
DTSTAMP:20240726T131249Z
DTSTART:20241001T104500Z
DTEND:20241001T110000Z
SUMMARY:Despedida y cierre
DESCRIPTION:
LOCATION:Alacant/Alicante (Alicante)
URL:https://ceeielche.emprenemjunts.es/?op=14&n=23691
GEO:38.339664;-0.490532
END:VEVENT
END:VCALENDAR
