BEGIN:VCALENDAR
VERSION:2.0
PRODID:-//CEEI Valencia//EmprenemJunts//ES
BEGIN:VEVENT
UID:Evento_23810
DTSTAMP:20240905T104418Z
DTSTART:20240916T073000Z
DTEND:20240916T083000Z
SUMMARY:Claves de éxito para emprender en Valencia (Espai Labora Avenida del Cid)
DESCRIPTION:
LOCATION:Valencia (Valencia)
URL:https://ceeivalencia.emprenemjunts.es/?op=14&n=23810
GEO:39.474293;-0.406754
END:VEVENT
END:VCALENDAR
