BEGIN:VCALENDAR
VERSION:2.0
PRODID:-//CEEI Valencia//EmprenemJunts//ES
BEGIN:VEVENT
UID:Evento_23962
DTSTAMP:20241002T090339Z
DTSTART:20241212T080000Z
DTEND:20241212T081500Z
SUMMARY:Inauguración y bienvenida: IVACE y CEEI Valencia
DESCRIPTION:
LOCATION:Valencia (Valencia)
URL:https://ceeivalencia.emprenemjunts.es/?op=14&n=23962
GEO:39.474270;-0.376740
END:VEVENT
END:VCALENDAR
