BEGIN:VCALENDAR
VERSION:2.0
PRODID:-//CEEI Elche//EmprenemJunts//ES
BEGIN:VEVENT
UID:Evento_24011
DTSTAMP:20241011T082833Z
DTSTART:20241113T084500Z
DTEND:20241113T090000Z
SUMMARY:Recepción y acreditación de asistentes
DESCRIPTION:
LOCATION:Pilar de la Horadada (Alicante)
URL:https://ceeielche.emprenemjunts.es/?op=14&n=24011
GEO:37.857780;-0.791885
END:VEVENT
END:VCALENDAR
