BEGIN:VCALENDAR
VERSION:2.0
PRODID:-//CEEI Alcoy//EmprenemJunts//ES
BEGIN:VEVENT
UID:Evento_24212
DTSTAMP:20241122T121147Z
DTSTART:20241125T084500Z
DTEND:20241125T103000Z
SUMMARY:Alcoy Local Green Deal
DESCRIPTION:Intelligent Cities Challenge
LOCATION:Alcoi/Alcoy (Alicante)
URL:https://ceeialcoi.emprenemjunts.es/?op=14&n=24212
GEO:38.742123;-0.487361
END:VEVENT
END:VCALENDAR
