BEGIN:VCALENDAR
VERSION:2.0
PRODID:-//CEEI Elche//EmprenemJunts//ES
BEGIN:VEVENT
UID:Evento_24280
DTSTAMP:20241216T112024Z
DTSTART:20241219T180000Z
DTEND:20241219T193000Z
SUMMARY:Gala Elche Emprende 2024: Emprendimiento y Trayectoria
DESCRIPTION:¡Forma parte de la Gala Elche Emprende 2024 \"Emprendimiento y Trayectoria\"!
LOCATION:Elx/Elche (Alicante)
URL:https://ceeielche.emprenemjunts.es/?op=14&n=24280
GEO:38.263744;-0.695678
END:VEVENT
END:VCALENDAR
