BEGIN:VCALENDAR
VERSION:2.0
PRODID:-//CEEI Elche//EmprenemJunts//ES
BEGIN:VEVENT
UID:Evento_24309
DTSTAMP:20250113T073203Z
DTSTART:20250912T070000Z
DTEND:20251122T130000Z
SUMMARY:Programa Superior Agente del Cambio para la digitalización de la empresa
DESCRIPTION:Curso gratuito de 150 horas
LOCATION:Sant Vicent del Raspeig/San Vicente del Raspeig (Alicante)
URL:https://ceeielche.emprenemjunts.es/?op=14&n=24309
GEO:38.384300;-0.510093
END:VEVENT
END:VCALENDAR
