BEGIN:VCALENDAR
VERSION:2.0
PRODID:-//CEEI Elche//EmprenemJunts//ES
BEGIN:VEVENT
UID:Evento_24437
DTSTAMP:20250217T083837Z
DTSTART:20250305T090000Z
DTEND:20250305T100000Z
SUMMARY:Instrumentos IVACE+i de apoyo a la I+D+i empresarial
DESCRIPTION:Ciclo de conferencias Focus Pyme: Financiación para pymes y startups 2025
LOCATION:
URL:https://ceeielche.emprenemjunts.es/?op=14&n=24437
END:VEVENT
END:VCALENDAR
