BEGIN:VCALENDAR
VERSION:2.0
PRODID:-//CEEI Castellón//EmprenemJunts//ES
BEGIN:VEVENT
UID:Evento_24445
DTSTAMP:20250218T154830Z
DTSTART:20250304T150000Z
DTEND:20250304T160000Z
SUMMARY:Impulsa tu futuro: habilidades para emprender y trabajar
DESCRIPTION:Talleres gratuitos online marzo 4, 11 y 18
LOCATION:CastellÃ³ de la Plana/CastellÃ³n de la Plana (CastellÃ³n)
URL:https://ceeicastellon.emprenemjunts.es/?op=14&n=24445
END:VEVENT
END:VCALENDAR
