BEGIN:VCALENDAR
VERSION:2.0
PRODID:-//CEEI Elche//EmprenemJunts//ES
BEGIN:VEVENT
UID:Evento_24511
DTSTAMP:20250227T122114Z
DTSTART:20250306T083000Z
DTEND:20250306T103000Z
SUMMARY:Fórum Jovempa Elles
DESCRIPTION:
LOCATION:Dénia (Alicante)
URL:https://ceeielche.emprenemjunts.es/?op=14&n=24511
GEO:38.845680;0.114080
END:VEVENT
END:VCALENDAR
