BEGIN:VCALENDAR
VERSION:2.0
PRODID:-//Internacional//EmprenemJunts//ES
BEGIN:VEVENT
UID:Evento_24621
DTSTAMP:20250318T081710Z
DTSTART:20250410T160000Z
DTEND:20250410T180000Z
SUMMARY:Conectando Mercados: Oportunidades de Negocio con Comunidades Internacionales
DESCRIPTION:
LOCATION:Alacant/Alicante (Alicante)
URL:https://internacional.emprenemjunts.es/?op=14&n=24621
GEO:38.338024;-0.493221
END:VEVENT
END:VCALENDAR
