BEGIN:VCALENDAR
VERSION:2.0
PRODID:-//Europa//EmprenemJunts//ES
BEGIN:VEVENT
UID:Evento_24769
DTSTAMP:20250416T141812Z
DTSTART:20250422T140000Z
DTEND:20250422T160000Z
SUMMARY:El emprendimiento femenino como motor de la economía social
DESCRIPTION:Taller online sobre emprendimiento femenino y economía social. Oportunidades, casos de éxito y financiación
LOCATION:
URL:https://europa.emprenemjunts.es/?op=14&n=24769
END:VEVENT
END:VCALENDAR
