BEGIN:VCALENDAR
VERSION:2.0
PRODID:-//CEEI Elche//EmprenemJunts//ES
BEGIN:VEVENT
UID:Evento_25001
DTSTAMP:20250605T065628Z
DTSTART:20250702T073000Z
DTEND:20250702T074500Z
SUMMARY:Apertura institucional
DESCRIPTION:
LOCATION:Petrer (Alicante)
URL:https://ceeielche.emprenemjunts.es/?op=14&n=25001
GEO:38.484783;-0.771676
END:VEVENT
END:VCALENDAR
