BEGIN:VCALENDAR
VERSION:2.0
PRODID:-//CEEI Elche//EmprenemJunts//ES
BEGIN:VEVENT
UID:Evento_25017
DTSTAMP:20250609T084622Z
DTSTART:20250612T163000Z
DTEND:20250612T180000Z
SUMMARY:Conferencia Campus Cámara CEU con Javier Gosende: Del \'Me gusta\' al \'Lo compro\'
DESCRIPTION:
LOCATION:Alacant/Alicante (Alicante)
URL:https://ceeielche.emprenemjunts.es/?op=14&n=25017
GEO:38.339062;-0.487295
END:VEVENT
END:VCALENDAR
