BEGIN:VCALENDAR
VERSION:2.0
PRODID:-//CEEI Elche//EmprenemJunts//ES
BEGIN:VEVENT
UID:Evento_25031
DTSTAMP:20250611T100007Z
DTSTART:20250618T080000Z
DTEND:20250618T110000Z
SUMMARY:Evento empresarial organizado por «Jovempa & LevelUp»: ¡Incrementa tus beneficios!
DESCRIPTION:
LOCATION:Petrer (Alicante)
URL:https://ceeielche.emprenemjunts.es/?op=14&n=25031
GEO:38.488987;-0.781823
END:VEVENT
END:VCALENDAR
